Workbook

Sheet 支払金口座情報登録依頼書 【入力シート】
B1: 支払金口座情報登録依頼書（廃止） 入力シート
B3: このExcelファイルは、「支払金口座情報登録依頼書（廃止）」用です。 ①【入力シート】に必要事項を入力してください。 ★別添の「記入例」も併せてご参照ください。 ② 入力内容を確認後、【印刷シート】を選択し、A4用紙（白紙）に印刷をしてください。 ③ 請求書提出先の東京都の事業所等へご提出ください。
B5: 提出日 | D5: 令和 | G5: 年 | I5: 月 | L5: 日 | R5: 注意事項
A6: 依頼人 | B6: 住所 | R6: （必須） 2行目まで表示されます
B7: 氏名 | R7: （必須） 2行目まで表示されます
A9: 口座情報コード | R9: （必須） 10桁または11桁
R11: （必須） 該当する廃止理由を、〇を移動させて選択してください その他の場合は、理由をご記入ください
A12: 廃止理由 | D12: 電話番号の変更 | E12: ・ | F12: その他 | I12: （ | Q12: ）
B15: 以下は、依頼人が法人で押印省略するときにご記入ください。
B16: 事務担当者 | C16: 役職
C17: 氏名
C18: 連絡先
D21: 本・支店名 | K21: 本店 支店 | O21: 支店コード （3桁） | R21: 本・支店名は、最大12文字まで表示されます. 該当するものに 〇 をつけてください
D23: 預金種目 | R23: 該当の預金種目を選択してください
D24: 口座番号 | R24: 口座番号（7桁） ※7桁に満たない場合は、頭に「0」をつけて入力してください
D25: 口座名義人（ｶﾅ） | R25: 最大30文字まで（半角）表示されます
B27: 口座指定番号 ２ | D27: 金融機関名 | K27: 銀行・信用金庫 信用組合・農協 | O27: 金融機関コード （4桁） | R27: 金融機関名は、最大12文字まで表示されます. 該当するものに 〇 をつけてください
D30: 本・支店名 | K30: 本店 支店 | O30: 支店コード （3桁） | R30: 本・支店名は、最大12文字まで表示されます. 該当するものに 〇 をつけてください
D32: 預金種目 | R32: 該当の預金種目を選択してください
D33: 口座番号 | R33: 口座番号（7桁） ※7桁に満たない場合は、頭に「0」をつけて入力してください
D34: 口座名義人（ｶﾅ） | R34: 最大30文字まで（半角）表示されます
B36: 口座指定番号 ３ | D36: 金融機関名 | K36: 銀行・信用金庫 信用組合・農協 | O36: 金融機関コード （4桁） | R36: 金融機関名は、最大12文字まで表示されます. 該当するものに 〇 をつけてください
D39: 本・支店名 | K39: 本店 支店 | O39: 支店コード （3桁） | R39: 本・支店名は、最大12文字まで表示されます. 該当するものに 〇 をつけてください
D41: 預金種目 | R41: 該当の預金種目を選択してください
D42: 口座番号 | R42: 口座番号（7桁） ※7桁に満たない場合は、頭に「0」をつけて入力してください
D43: 口座名義人（ｶﾅ） | R43: 最大30文字まで（半角）表示されます
B45: 口座指定番号 ４ | D45: 金融機関名 | K45: 銀行・信用金庫 信用組合・農協 | O45: 金融機関コード （4桁） | R45: 金融機関名は、最大12文字まで表示されます. 該当するものに 〇 をつけてください
D48: 本・支店名 | K48: 本店 支店 | O48: 支店コード （3桁） | R48: 本・支店名は、最大12文字まで表示されます. 該当するものに 〇 をつけてください
D50: 預金種目 | R50: 該当の預金種目を選択してください
D51: 口座番号 | R51: 口座番号（7桁） ※7桁に満たない場合は、頭に「0」をつけて入力してください
D52: 口座名義人（ｶﾅ） | R52: 最大30文字まで（半角）表示されます

Sheet １号様式 【印刷シート】
A1: 第１号様式
A2: 支 払 金 口 座 情 報 登 録 依 頼 書
A3: （ 新規 ・ 変更 ・ 廃止 ）
A4: 東京都知事 殿 | AW4: ='支払金口座情報登録依頼書 【入力シート】'!D5&'支払金口座情報登録依頼書 【入力シート】'!F5&'支払金口座情報登録依頼書 【入力シート】'!G5&'支払金口座情報登録依頼書 【入力シート】'!H5&'支払金口座情報登録依頼書 【入力シート】'!I5&'支払金口座情報登録依頼書 【入力シート】'!K5&'支払金口座情報登録依頼書 【入力シート】'!L5 -> 令和年月日
A5: 東京都からの支払金の振込みについては、下記口座を指定しますので、口座情報等の登録を依頼します。
A6: 住 所 | N6: =LEFTB('支払金口座情報登録依頼書 【入力シート】'!D6,160)
A7: 依頼人
A8: 氏 名 | N8: =LEFTB('支払金口座情報登録依頼書 【入力シート】'!D7,132) | AZ8: 印
I9: (法人の場合は、法人名及び代表者職・氏名)
A11: (該当に○をしてください）
C12: 新規 | M12: 口座情報コード（変更・廃止のとき必須。左詰め）
C13: ・ 変更 | M13: =MID('支払金口座情報登録依頼書 【入力シート】'!D9,1,1) | O13: =MID('支払金口座情報登録依頼書 【入力シート】'!D9,2,1) | Q13: =MID('支払金口座情報登録依頼書 【入力シート】'!D9,3,1) | S13: =MID('支払金口座情報登録依頼書 【入力シート】'!D9,4,1) | U13: =MID('支払金口座情報登録依頼書 【入力シート】'!D9,5,1) | W13: =MID('支払金口座情報登録依頼書 【入力シート】'!D9,6,1) | Y13: =MID('支払金口座情報登録依頼書 【入力シート】'!D9,7,1) | AA13: =MID('支払金口座情報登録依頼書 【入力シート】'!D9,8,1) | AC13: =MID('支払金口座情報登録依頼書 【入力シート】'!D9,9,1) | AE13: =MID('支払金口座情報登録依頼書 【入力シート】'!D9,10,1) | AG13: =MID('支払金口座情報登録依頼書 【入力シート】'!D9,11,1)
C14: ・
C15: 廃止 →廃止理由： | W15: ・ | AD15: （ | BB15: ）
A17: フリガナ (必須)
A18: 氏名又は 法人名(必須)
M20: －
A21: 住所・ 所在地
A24: 電話番号 （左詰め） | Q24: － | AA24: －
A26: ＊ 原則として固定電話の電話番号を記入してください。
A27: ＊ 電話番号の変更はできません。旧電話番号の廃止及び新電話番号での
B28: 新規登録を依頼してください。
A30: 口座指定番号１ | E30: 金 融 機 関 名 | S30: 本 ・ 支 店 名 | AC30: 金融機関コード | AK30: 支店コード | AQ30: 種目 | AS30: 口座番号(右詰めで記入)
AC31: =MID('支払金口座情報登録依頼書 【入力シート】'!P12,1,1) | AE31: =MID('支払金口座情報登録依頼書 【入力シート】'!P12,2,1) | AG31: =MID('支払金口座情報登録依頼書 【入力シート】'!P12,3,1) | AI31: =MID('支払金口座情報登録依頼書 【入力シート】'!P12,4,1)
A32: 口 座 名 義 人 （ カ タ カ ナ ） 3 0 文 字 ま で
A35: 口座指定番号２ | E35: 金 融 機 関 名 | S35: 本 ・ 支 店 名 | AC35: 金融機関コード | AK35: 支店コード | AQ35: 種目 | AS35: 口座番号(右詰めで記入)
A37: 口 座 名 義 人 （ カ タ カ ナ ） 3 0 文 字 ま で
A40: 口座指定番号３ | E40: 金 融 機 関 名 | S40: 本 ・ 支 店 名 | AC40: 金融機関コード | AK40: 支店コード | AQ40: 種目 | AS40: 口座番号(右詰めで記入)
A42: 口 座 名 義 人 （ カ タ カ ナ ） 3 0 文 字 ま で
A45: 口座指定番号４ | E45: 金 融 機 関 名 | S45: 本 ・ 支 店 名 | AC45: 金融機関コード | AK45: 支店コード | AQ45: 種目 | AS45: 口座番号(右詰めで記入)
A47: 口 座 名 義 人 （ カ タ カ ナ ） 3 0 文 字 ま で
A50: 取扱局・所記入欄（依頼人の方は記入しないでください） | AQ50: 特別出納員印 | AW50: システム入力 | BC50: 会計管理局使用欄
A51: 取 扱 局 所 部 課 名 | U51: 担 当 者 | AC51: 電 話 番 号
A53: 連絡事項：
G54: 本件事務担当者 | AV54: （日本産業規格Ａ列４番）
H56: 役職名 | L56: =LEFTB('支払金口座情報登録依頼書 【入力シート】'!E16,50) | X56: 氏名 | AA56: =LEFTB('支払金口座情報登録依頼書 【入力シート】'!E17,50) | AN56: 連絡先 | AR56: =LEFTB('支払金口座情報登録依頼書 【入力シート】'!E18,50)
